BEGIN:VCALENDAR
VERSION:2.0
PRODID:-//GSMA Training - ECPv6.14.2//NONSGML v1.0//EN
CALSCALE:GREGORIAN
METHOD:PUBLISH
X-ORIGINAL-URL:https://www.gsmatraining.com
X-WR-CALDESC:Events for GSMA Training
REFRESH-INTERVAL;VALUE=DURATION:PT1H
X-Robots-Tag:noindex
X-PUBLISHED-TTL:PT1H
BEGIN:VTIMEZONE
TZID:Europe/London
BEGIN:DAYLIGHT
TZOFFSETFROM:+0000
TZOFFSETTO:+0100
TZNAME:BST
DTSTART:20240331T010000
END:DAYLIGHT
BEGIN:STANDARD
TZOFFSETFROM:+0100
TZOFFSETTO:+0000
TZNAME:GMT
DTSTART:20241027T010000
END:STANDARD
END:VTIMEZONE
BEGIN:VEVENT
DTSTART;TZID=Europe/London:20240118T050000
DTEND;TZID=Europe/London:20240308T220000
DTSTAMP:20260419T214715
CREATED:20220125T113130Z
LAST-MODIFIED:20250604T160705Z
UID:2841-1705554000-1709935200@www.gsmatraining.com
SUMMARY:The Role of Mobile in Humanitarian Action
DESCRIPTION:Overview \nThe need for humanitarian assistance is on the rise. A recent report from the UN OCHA estimates that 235 million people worldwide currently require assistance and protection. \nNew partnership models and innovative tools and approaches are crucial to address this growing humanitarian challenge. As a result\, mobile technology is now critical to the success of disaster response efforts and the delivery of humanitarian aid. Policymakers and regulators need to better understand how they can support these efforts through effective policies. \nThis three-week course looks at the role of policymakers and mobile operators in disaster response management and the effect they can have on the acceleration of aid delivery during and after a humanitarian crisis. \nCourse Objectives  \n\nLearn how improved coordination between mobile operators\, governments\, regulatory authorities and the humanitarian community can mitigate risks during times of crisis.\nDiscover how regulators around the world are adopting flexible approaches to policy during emergencies to positively impact response efforts.\nUnderstand and explore how mobile platforms can digitise humanitarian aid delivery channels.\n\nCourse Enrolment Criteria \nThis course is open to: \n\nRegulators\nPolicymakers\nRepresentatives from academia and international organisations working on regulatory or policy issues\n\nWe cannot accept applications from individuals working in the private sector or those not involved in policy or regulation. \nCourse Completion Certificates \nAll our courses are certified by the United Kingdom Telecoms Academy (UKTA) and accredited for Continuing Professional Development (CPD). \n \n  \nThis course equates to 10 hours of CPD training. \n  \n  \nTo qualify for a course completion certificate\, you must view all the course sessions and answer correctly all the quiz questions you will find as you progress through the sessions. You will also need to fill out the course survey. \nYou do not have to complete a final project to earn a course completion certificate but we strongly encourage you to create one. Putting together a final project will give you an opportunity to reflect on the principles covered during the course and help you discover how they could be applied to your own country.  If you submit a final project the course trainer will provide you with valuable feedback that you may find useful in your day-to-day work. \nCourse Structure and Study Time \nThe course consists of six sessions and you will gain access to all of them on the course start date. You will have the opportunity to ask questions about the content of the course on the course forum. \nIt should not take you more than two to three hours of study time per week to complete the course in three weeks. You will have\, however\, six weeks to complete it. If after six weeks you have not completed the course\, you will have to start it again next time it is offered. \nIf you decide to submit a final project\, it will probably take you four to six hours to put it together. You will have six weeks to submit your final project. \nIf you have any special needs regarding this training course\, please us let us know via our contact form so we can get in touch to discuss how your needs can be met.
URL:https://www.gsmatraining.com/course/the-role-of-mobile-in-humanitarian-action/
CATEGORIES:Financial inclusion,Social responsibility
ATTACH;FMTTYPE=image/jpeg:https://agylianetwork.sozowebdesign.co.uk/app/uploads/sites/2/2022/01/Cover-Image-calamity-3295900_960_720.jpg
END:VEVENT
END:VCALENDAR